BEGIN:VCALENDAR
VERSION:2.0
PRODID:-//Tukios.com/
BEGIN:VEVENT
UID:c9f10cc6-c72f-4c00-b55a-e2dbfdea959b@www.beatyfuneralhome.com
DTSTAMP:20260424T035200Z
DTSTART:20260427T170000Z
DTEND:20260427T180000Z
SUMMARY:Memorial Service
DESCRIPTION:
URL:https://www.beatyfuneralhome.com/obituaries/anthony-mcgovern
LOCATION:Beaty Funeral Home-Winnsboro 816 W Broadway St  Winnsboro TX 
	75494
GEO:32.9669265;-95.3003444
END:VEVENT
END:VCALENDAR