BEGIN:VCALENDAR
VERSION:2.0
PRODID:-//Tukios.com/
BEGIN:VEVENT
UID:7368a132-22b6-42d2-aca6-c0f8522fc486@www.beatyfuneralhome.com
DTSTAMP:20260421T031705Z
DTSTART:20260425T160000Z
DTEND:20260425T170000Z
SUMMARY:Funeral Service
DESCRIPTION:
URL:https://www.beatyfuneralhome.com/obituaries/betty-arnett
LOCATION:Beaty Funeral Home Chapel - Mineola 5320 S State Hwy 37  Mineola 
	TX 75773
GEO:32.7083909;-95.4819657
END:VEVENT
END:VCALENDAR