BEGIN:VCALENDAR
VERSION:2.0
PRODID:-//Tukios.com/
BEGIN:VEVENT
UID:6263ddee-80c4-42e2-aba3-1499d8a02721@www.beatyfuneralhome.com
DTSTAMP:20260421T031440Z
DTSTART:20260425T150000Z
DTEND:20260425T160000Z
SUMMARY:Visitation
DESCRIPTION:
URL:https://www.beatyfuneralhome.com/obituaries/betty-arnett
LOCATION:Beaty Funeral Home Chapel - Mineola 5320 S State Hwy 37  Mineola 
	TX 75773
GEO:32.7083909;-95.4819657
END:VEVENT
END:VCALENDAR