BEGIN:VCALENDAR
VERSION:2.0
PRODID:-//Tukios.com/
BEGIN:VEVENT
UID:54d39012-28c2-4200-8aca-3f22f20fe1b7@www.beatyfuneralhome.com
DTSTAMP:20260422T173144Z
DTSTART:20260426T190000Z
DTEND:20260426T200000Z
SUMMARY:Funeral Service
DESCRIPTION:
URL:https://www.beatyfuneralhome.com/obituaries/danny-donaldson
LOCATION:Beaty Funeral Home-Winnsboro 816 W Broadway St  Winnsboro TX 
	75494
GEO:32.9669265;-95.3003444
END:VEVENT
END:VCALENDAR