BEGIN:VCALENDAR
VERSION:2.0
PRODID:-//Tukios.com/
BEGIN:VEVENT
UID:f62d4915-88fb-4314-82e7-cd61e98f456d@www.beatyfuneralhome.com
DTSTAMP:20260422T203038Z
DTSTART:20260425T180000Z
DTEND:20260425T190000Z
SUMMARY:Visitation
DESCRIPTION:
URL:https://www.beatyfuneralhome.com/obituaries/linda-bain
LOCATION:Beaty Funeral Home-Winnsboro 816 W Broadway St  Winnsboro TX 
	75494
GEO:32.9669265;-95.3003444
END:VEVENT
END:VCALENDAR